BEGIN:VCALENDAR
VERSION:2.0
PRODID:-//Epiphany Life Change - ECPv6.15.1.1//NONSGML v1.0//EN
CALSCALE:GREGORIAN
METHOD:PUBLISH
X-ORIGINAL-URL:https://www.epiphanylifechange.org
X-WR-CALDESC:Events for Epiphany Life Change
REFRESH-INTERVAL;VALUE=DURATION:PT1H
X-Robots-Tag:noindex
X-PUBLISHED-TTL:PT1H
BEGIN:VTIMEZONE
TZID:UTC
BEGIN:STANDARD
TZOFFSETFROM:+0000
TZOFFSETTO:+0000
TZNAME:UTC
DTSTART:20250101T000000
END:STANDARD
END:VTIMEZONE
BEGIN:VEVENT
DTSTART;TZID=UTC:20250405T130000
DTEND;TZID=UTC:20250405T150000
DTSTAMP:20260424T102302
CREATED:20220615T193338Z
LAST-MODIFIED:20220615T193338Z
UID:1564-1743858000-1743865200@www.epiphanylifechange.org
SUMMARY:Plane State Jail Reentry Class
DESCRIPTION:
URL:https://www.epiphanylifechange.org/event/__trashed-2025-04-05/
LOCATION:Plane State Women’s Jail\, 904 FM686\, Dayton\, TX\, 77535\, United States
ORGANIZER;CN="Felicia a Anderson":MAILTO:felicia.anderson@epiphanylifechange.com
END:VEVENT
END:VCALENDAR