BEGIN:VCALENDAR
VERSION:2.0
PRODID:-//Epiphany Life Change - ECPv6.15.1.1//NONSGML v1.0//EN
CALSCALE:GREGORIAN
METHOD:PUBLISH
X-WR-CALNAME:Epiphany Life Change
X-ORIGINAL-URL:https://www.epiphanylifechange.org
X-WR-CALDESC:Events for Epiphany Life Change
REFRESH-INTERVAL;VALUE=DURATION:PT1H
X-Robots-Tag:noindex
X-PUBLISHED-TTL:PT1H
BEGIN:VTIMEZONE
TZID:UTC
BEGIN:STANDARD
TZOFFSETFROM:+0000
TZOFFSETTO:+0000
TZNAME:UTC
DTSTART:20260101T000000
END:STANDARD
END:VTIMEZONE
BEGIN:VEVENT
DTSTART;TZID=UTC:20260517T090000
DTEND;TZID=UTC:20260517T110000
DTSTAMP:20260424T183216
CREATED:20210803T161651Z
LAST-MODIFIED:20210803T161651Z
UID:1551-1779008400-1779015600@www.epiphanylifechange.org
SUMMARY:C T Terrell Unit
DESCRIPTION:
URL:https://www.epiphanylifechange.org/event/c-t-terrell-unit-2026-05-17/
END:VEVENT
END:VCALENDAR