BEGIN:VCALENDAR
VERSION:2.0
PRODID:-//Epiphany Life Change - ECPv6.15.1.1//NONSGML v1.0//EN
CALSCALE:GREGORIAN
METHOD:PUBLISH
X-ORIGINAL-URL:https://www.epiphanylifechange.org
X-WR-CALDESC:Events for Epiphany Life Change
REFRESH-INTERVAL;VALUE=DURATION:PT1H
X-Robots-Tag:noindex
X-PUBLISHED-TTL:PT1H
BEGIN:VTIMEZONE
TZID:UTC
BEGIN:STANDARD
TZOFFSETFROM:+0000
TZOFFSETTO:+0000
TZNAME:UTC
DTSTART:20250101T000000
END:STANDARD
END:VTIMEZONE
BEGIN:VEVENT
DTSTART;TZID=UTC:20250401T150000
DTEND;TZID=UTC:20250401T170000
DTSTAMP:20260422T143642
CREATED:20220708T174714Z
LAST-MODIFIED:20220708T174714Z
UID:1174-1743519600-1743526800@www.epiphanylifechange.org
SUMMARY:Pack Unit  TUMI Classes
DESCRIPTION:
URL:https://www.epiphanylifechange.org/event/pack-unit-tumi-classes-2025-04-01/
END:VEVENT
BEGIN:VEVENT
DTSTART;TZID=UTC:20250405T130000
DTEND;TZID=UTC:20250405T150000
DTSTAMP:20260422T143642
CREATED:20220615T193338Z
LAST-MODIFIED:20220615T193338Z
UID:1564-1743858000-1743865200@www.epiphanylifechange.org
SUMMARY:Plane State Jail Reentry Class
DESCRIPTION:
URL:https://www.epiphanylifechange.org/event/__trashed-2025-04-05/
LOCATION:Plane State Women’s Jail\, 904 FM686\, Dayton\, TX\, 77535\, United States
ORGANIZER;CN="Felicia a Anderson":MAILTO:felicia.anderson@epiphanylifechange.com
END:VEVENT
BEGIN:VEVENT
DTSTART;TZID=UTC:20250406T083000
DTEND;TZID=UTC:20250406T110000
DTSTAMP:20260422T143642
CREATED:20210803T160656Z
LAST-MODIFIED:20210803T160656Z
UID:1489-1743928200-1743937200@www.epiphanylifechange.org
SUMMARY:Stringfellow Unit Worship Service
DESCRIPTION:
URL:https://www.epiphanylifechange.org/event/stringfellow-unit-worship-service-2025-04-06/
LOCATION:Stringfellow Unit
END:VEVENT
BEGIN:VEVENT
DTSTART;TZID=UTC:20250408T150000
DTEND;TZID=UTC:20250408T170000
DTSTAMP:20260422T143642
CREATED:20220708T174714Z
LAST-MODIFIED:20220708T174714Z
UID:1581-1744124400-1744131600@www.epiphanylifechange.org
SUMMARY:Pack Unit  TUMI Classes
DESCRIPTION:
URL:https://www.epiphanylifechange.org/event/pack-unit-tumi-classes-2025-04-08/
END:VEVENT
BEGIN:VEVENT
DTSTART;TZID=UTC:20250413T090000
DTEND;TZID=UTC:20250413T113000
DTSTAMP:20260422T143642
CREATED:20210803T161533Z
LAST-MODIFIED:20210803T161533Z
UID:1522-1744534800-1744543800@www.epiphanylifechange.org
SUMMARY:C T Terrell Unit in the Boot Camp
DESCRIPTION:
URL:https://www.epiphanylifechange.org/event/c-t-terrell-unit-in-the-boot-camp-2025-04-13/
END:VEVENT
BEGIN:VEVENT
DTSTART;TZID=UTC:20250413T093000
DTEND;TZID=UTC:20250413T113000
DTSTAMP:20260422T143642
CREATED:20210803T161034Z
LAST-MODIFIED:20210803T161034Z
UID:1506-1744536600-1744543800@www.epiphanylifechange.org
SUMMARY:C T Terrell Unit in the Main Bldg
DESCRIPTION:
URL:https://www.epiphanylifechange.org/event/c-t-terrell-unit-in-the-main-bldg-2025-04-13/
END:VEVENT
BEGIN:VEVENT
DTSTART;TZID=UTC:20250415T150000
DTEND;TZID=UTC:20250415T170000
DTSTAMP:20260422T143642
CREATED:20220708T174714Z
LAST-MODIFIED:20220708T174714Z
UID:1582-1744729200-1744736400@www.epiphanylifechange.org
SUMMARY:Pack Unit  TUMI Classes
DESCRIPTION:
URL:https://www.epiphanylifechange.org/event/pack-unit-tumi-classes-2025-04-15/
END:VEVENT
BEGIN:VEVENT
DTSTART;TZID=UTC:20250420T090000
DTEND;TZID=UTC:20250420T110000
DTSTAMP:20260422T143642
CREATED:20210803T161651Z
LAST-MODIFIED:20210803T161651Z
UID:1538-1745139600-1745146800@www.epiphanylifechange.org
SUMMARY:C T Terrell Unit
DESCRIPTION:
URL:https://www.epiphanylifechange.org/event/c-t-terrell-unit-2025-04-20/
END:VEVENT
BEGIN:VEVENT
DTSTART;TZID=UTC:20250422T150000
DTEND;TZID=UTC:20250422T170000
DTSTAMP:20260422T143642
CREATED:20220708T174714Z
LAST-MODIFIED:20220708T174714Z
UID:1583-1745334000-1745341200@www.epiphanylifechange.org
SUMMARY:Pack Unit  TUMI Classes
DESCRIPTION:
URL:https://www.epiphanylifechange.org/event/pack-unit-tumi-classes-2025-04-22/
END:VEVENT
BEGIN:VEVENT
DTSTART;TZID=UTC:20250429T150000
DTEND;TZID=UTC:20250429T170000
DTSTAMP:20260422T143642
CREATED:20220708T174714Z
LAST-MODIFIED:20220708T174714Z
UID:1584-1745938800-1745946000@www.epiphanylifechange.org
SUMMARY:Pack Unit  TUMI Classes
DESCRIPTION:
URL:https://www.epiphanylifechange.org/event/pack-unit-tumi-classes-2025-04-29/
END:VEVENT
BEGIN:VEVENT
DTSTART;TZID=UTC:20250503T130000
DTEND;TZID=UTC:20250503T150000
DTSTAMP:20260422T143642
CREATED:20220615T193338Z
LAST-MODIFIED:20220615T193338Z
UID:1565-1746277200-1746284400@www.epiphanylifechange.org
SUMMARY:Plane State Jail Reentry Class
DESCRIPTION:
URL:https://www.epiphanylifechange.org/event/__trashed-2025-05-03/
LOCATION:Plane State Women’s Jail\, 904 FM686\, Dayton\, TX\, 77535\, United States
ORGANIZER;CN="Felicia a Anderson":MAILTO:felicia.anderson@epiphanylifechange.com
END:VEVENT
BEGIN:VEVENT
DTSTART;TZID=UTC:20250504T083000
DTEND;TZID=UTC:20250504T110000
DTSTAMP:20260422T143642
CREATED:20210803T160656Z
LAST-MODIFIED:20210803T160656Z
UID:1490-1746347400-1746356400@www.epiphanylifechange.org
SUMMARY:Stringfellow Unit Worship Service
DESCRIPTION:
URL:https://www.epiphanylifechange.org/event/stringfellow-unit-worship-service-2025-05-04/
LOCATION:Stringfellow Unit
END:VEVENT
BEGIN:VEVENT
DTSTART;TZID=UTC:20250506T150000
DTEND;TZID=UTC:20250506T170000
DTSTAMP:20260422T143642
CREATED:20220708T174714Z
LAST-MODIFIED:20220708T174714Z
UID:1585-1746543600-1746550800@www.epiphanylifechange.org
SUMMARY:Pack Unit  TUMI Classes
DESCRIPTION:
URL:https://www.epiphanylifechange.org/event/pack-unit-tumi-classes-2025-05-06/
END:VEVENT
BEGIN:VEVENT
DTSTART;TZID=UTC:20250511T090000
DTEND;TZID=UTC:20250511T113000
DTSTAMP:20260422T143642
CREATED:20210803T161533Z
LAST-MODIFIED:20210803T161533Z
UID:1523-1746954000-1746963000@www.epiphanylifechange.org
SUMMARY:C T Terrell Unit in the Boot Camp
DESCRIPTION:
URL:https://www.epiphanylifechange.org/event/c-t-terrell-unit-in-the-boot-camp-2025-05-11/
END:VEVENT
BEGIN:VEVENT
DTSTART;TZID=UTC:20250511T093000
DTEND;TZID=UTC:20250511T113000
DTSTAMP:20260422T143642
CREATED:20210803T161034Z
LAST-MODIFIED:20210803T161034Z
UID:1507-1746955800-1746963000@www.epiphanylifechange.org
SUMMARY:C T Terrell Unit in the Main Bldg
DESCRIPTION:
URL:https://www.epiphanylifechange.org/event/c-t-terrell-unit-in-the-main-bldg-2025-05-11/
END:VEVENT
BEGIN:VEVENT
DTSTART;TZID=UTC:20250513T150000
DTEND;TZID=UTC:20250513T170000
DTSTAMP:20260422T143642
CREATED:20220708T174714Z
LAST-MODIFIED:20220708T174714Z
UID:1586-1747148400-1747155600@www.epiphanylifechange.org
SUMMARY:Pack Unit  TUMI Classes
DESCRIPTION:
URL:https://www.epiphanylifechange.org/event/pack-unit-tumi-classes-2025-05-13/
END:VEVENT
BEGIN:VEVENT
DTSTART;TZID=UTC:20250518T090000
DTEND;TZID=UTC:20250518T110000
DTSTAMP:20260422T143642
CREATED:20210803T161651Z
LAST-MODIFIED:20210803T161651Z
UID:1539-1747558800-1747566000@www.epiphanylifechange.org
SUMMARY:C T Terrell Unit
DESCRIPTION:
URL:https://www.epiphanylifechange.org/event/c-t-terrell-unit-2025-05-18/
END:VEVENT
BEGIN:VEVENT
DTSTART;TZID=UTC:20250520T150000
DTEND;TZID=UTC:20250520T170000
DTSTAMP:20260422T143642
CREATED:20220708T174714Z
LAST-MODIFIED:20220708T174714Z
UID:1587-1747753200-1747760400@www.epiphanylifechange.org
SUMMARY:Pack Unit  TUMI Classes
DESCRIPTION:
URL:https://www.epiphanylifechange.org/event/pack-unit-tumi-classes-2025-05-20/
END:VEVENT
BEGIN:VEVENT
DTSTART;TZID=UTC:20250527T150000
DTEND;TZID=UTC:20250527T170000
DTSTAMP:20260422T143642
CREATED:20220708T174714Z
LAST-MODIFIED:20220708T174714Z
UID:1588-1748358000-1748365200@www.epiphanylifechange.org
SUMMARY:Pack Unit  TUMI Classes
DESCRIPTION:
URL:https://www.epiphanylifechange.org/event/pack-unit-tumi-classes-2025-05-27/
END:VEVENT
BEGIN:VEVENT
DTSTART;TZID=UTC:20250601T083000
DTEND;TZID=UTC:20250601T110000
DTSTAMP:20260422T143642
CREATED:20210803T160656Z
LAST-MODIFIED:20210803T160656Z
UID:1491-1748766600-1748775600@www.epiphanylifechange.org
SUMMARY:Stringfellow Unit Worship Service
DESCRIPTION:
URL:https://www.epiphanylifechange.org/event/stringfellow-unit-worship-service-2025-06-01/
LOCATION:Stringfellow Unit
END:VEVENT
BEGIN:VEVENT
DTSTART;TZID=UTC:20250603T150000
DTEND;TZID=UTC:20250603T170000
DTSTAMP:20260422T143642
CREATED:20220708T174714Z
LAST-MODIFIED:20220708T174714Z
UID:1589-1748962800-1748970000@www.epiphanylifechange.org
SUMMARY:Pack Unit  TUMI Classes
DESCRIPTION:
URL:https://www.epiphanylifechange.org/event/pack-unit-tumi-classes-2025-06-03/
END:VEVENT
BEGIN:VEVENT
DTSTART;TZID=UTC:20250607T130000
DTEND;TZID=UTC:20250607T150000
DTSTAMP:20260422T143642
CREATED:20220615T193338Z
LAST-MODIFIED:20220615T193338Z
UID:1566-1749301200-1749308400@www.epiphanylifechange.org
SUMMARY:Plane State Jail Reentry Class
DESCRIPTION:
URL:https://www.epiphanylifechange.org/event/__trashed-2025-06-07/
LOCATION:Plane State Women’s Jail\, 904 FM686\, Dayton\, TX\, 77535\, United States
ORGANIZER;CN="Felicia a Anderson":MAILTO:felicia.anderson@epiphanylifechange.com
END:VEVENT
BEGIN:VEVENT
DTSTART;TZID=UTC:20250608T090000
DTEND;TZID=UTC:20250608T113000
DTSTAMP:20260422T143642
CREATED:20210803T161533Z
LAST-MODIFIED:20210803T161533Z
UID:1524-1749373200-1749382200@www.epiphanylifechange.org
SUMMARY:C T Terrell Unit in the Boot Camp
DESCRIPTION:
URL:https://www.epiphanylifechange.org/event/c-t-terrell-unit-in-the-boot-camp-2025-06-08/
END:VEVENT
BEGIN:VEVENT
DTSTART;TZID=UTC:20250608T093000
DTEND;TZID=UTC:20250608T113000
DTSTAMP:20260422T143642
CREATED:20210803T161034Z
LAST-MODIFIED:20210803T161034Z
UID:1508-1749375000-1749382200@www.epiphanylifechange.org
SUMMARY:C T Terrell Unit in the Main Bldg
DESCRIPTION:
URL:https://www.epiphanylifechange.org/event/c-t-terrell-unit-in-the-main-bldg-2025-06-08/
END:VEVENT
BEGIN:VEVENT
DTSTART;TZID=UTC:20250610T150000
DTEND;TZID=UTC:20250610T170000
DTSTAMP:20260422T143642
CREATED:20220708T174714Z
LAST-MODIFIED:20220708T174714Z
UID:1590-1749567600-1749574800@www.epiphanylifechange.org
SUMMARY:Pack Unit  TUMI Classes
DESCRIPTION:
URL:https://www.epiphanylifechange.org/event/pack-unit-tumi-classes-2025-06-10/
END:VEVENT
BEGIN:VEVENT
DTSTART;TZID=UTC:20250615T090000
DTEND;TZID=UTC:20250615T110000
DTSTAMP:20260422T143642
CREATED:20210803T161651Z
LAST-MODIFIED:20210803T161651Z
UID:1540-1749978000-1749985200@www.epiphanylifechange.org
SUMMARY:C T Terrell Unit
DESCRIPTION:
URL:https://www.epiphanylifechange.org/event/c-t-terrell-unit-2025-06-15/
END:VEVENT
BEGIN:VEVENT
DTSTART;TZID=UTC:20250617T150000
DTEND;TZID=UTC:20250617T170000
DTSTAMP:20260422T143642
CREATED:20220708T174714Z
LAST-MODIFIED:20220708T174714Z
UID:1591-1750172400-1750179600@www.epiphanylifechange.org
SUMMARY:Pack Unit  TUMI Classes
DESCRIPTION:
URL:https://www.epiphanylifechange.org/event/pack-unit-tumi-classes-2025-06-17/
END:VEVENT
BEGIN:VEVENT
DTSTART;TZID=UTC:20250624T150000
DTEND;TZID=UTC:20250624T170000
DTSTAMP:20260422T143642
CREATED:20220708T174714Z
LAST-MODIFIED:20220708T174714Z
UID:1592-1750777200-1750784400@www.epiphanylifechange.org
SUMMARY:Pack Unit  TUMI Classes
DESCRIPTION:
URL:https://www.epiphanylifechange.org/event/pack-unit-tumi-classes-2025-06-24/
END:VEVENT
BEGIN:VEVENT
DTSTART;TZID=UTC:20250701T150000
DTEND;TZID=UTC:20250701T170000
DTSTAMP:20260422T143642
CREATED:20220708T174714Z
LAST-MODIFIED:20220708T174714Z
UID:1593-1751382000-1751389200@www.epiphanylifechange.org
SUMMARY:Pack Unit  TUMI Classes
DESCRIPTION:
URL:https://www.epiphanylifechange.org/event/pack-unit-tumi-classes-2025-07-01/
END:VEVENT
BEGIN:VEVENT
DTSTART;TZID=UTC:20250705T130000
DTEND;TZID=UTC:20250705T150000
DTSTAMP:20260422T143642
CREATED:20220615T193338Z
LAST-MODIFIED:20220615T193338Z
UID:1567-1751720400-1751727600@www.epiphanylifechange.org
SUMMARY:Plane State Jail Reentry Class
DESCRIPTION:
URL:https://www.epiphanylifechange.org/event/__trashed-2025-07-05/
LOCATION:Plane State Women’s Jail\, 904 FM686\, Dayton\, TX\, 77535\, United States
ORGANIZER;CN="Felicia a Anderson":MAILTO:felicia.anderson@epiphanylifechange.com
END:VEVENT
END:VCALENDAR