BEGIN:VCALENDAR
VERSION:2.0
PRODID:-//Epiphany Life Change - ECPv6.15.1.1//NONSGML v1.0//EN
CALSCALE:GREGORIAN
METHOD:PUBLISH
X-WR-CALNAME:Epiphany Life Change
X-ORIGINAL-URL:https://www.epiphanylifechange.org
X-WR-CALDESC:Events for Epiphany Life Change
REFRESH-INTERVAL;VALUE=DURATION:PT1H
X-Robots-Tag:noindex
X-PUBLISHED-TTL:PT1H
BEGIN:VTIMEZONE
TZID:UTC
BEGIN:STANDARD
TZOFFSETFROM:+0000
TZOFFSETTO:+0000
TZNAME:UTC
DTSTART:20240101T000000
END:STANDARD
END:VTIMEZONE
BEGIN:VEVENT
DTSTART;TZID=UTC:20240604T150000
DTEND;TZID=UTC:20240604T170000
DTSTAMP:20260419T215952
CREATED:20220708T174714Z
LAST-MODIFIED:20220708T174714Z
UID:852-1717513200-1717520400@www.epiphanylifechange.org
SUMMARY:Pack Unit  TUMI Classes
DESCRIPTION:
URL:https://www.epiphanylifechange.org/event/pack-unit-tumi-classes-2024-06-04/
END:VEVENT
BEGIN:VEVENT
DTSTART;TZID=UTC:20240602T083000
DTEND;TZID=UTC:20240602T110000
DTSTAMP:20260419T215952
CREATED:20210803T160656Z
LAST-MODIFIED:20210803T160656Z
UID:706-1717317000-1717326000@www.epiphanylifechange.org
SUMMARY:Stringfellow Unit Worship Service
DESCRIPTION:
URL:https://www.epiphanylifechange.org/event/stringfellow-unit-worship-service-2024-06-02/
LOCATION:Stringfellow Unit
END:VEVENT
BEGIN:VEVENT
DTSTART;TZID=UTC:20240601T130000
DTEND;TZID=UTC:20240601T150000
DTSTAMP:20260419T215952
CREATED:20220615T193338Z
LAST-MODIFIED:20220615T193338Z
UID:743-1717246800-1717254000@www.epiphanylifechange.org
SUMMARY:Plane State Jail Reentry Class
DESCRIPTION:
URL:https://www.epiphanylifechange.org/event/__trashed-2024-06-01/
LOCATION:Plane State Women’s Jail\, 904 FM686\, Dayton\, TX\, 77535\, United States
ORGANIZER;CN="Felicia a Anderson":MAILTO:felicia.anderson@epiphanylifechange.com
END:VEVENT
BEGIN:VEVENT
DTSTART;TZID=UTC:20240528T150000
DTEND;TZID=UTC:20240528T170000
DTSTAMP:20260419T215952
CREATED:20220708T174714Z
LAST-MODIFIED:20220708T174714Z
UID:851-1716908400-1716915600@www.epiphanylifechange.org
SUMMARY:Pack Unit  TUMI Classes
DESCRIPTION:
URL:https://www.epiphanylifechange.org/event/pack-unit-tumi-classes-2024-05-28/
END:VEVENT
BEGIN:VEVENT
DTSTART;TZID=UTC:20240521T150000
DTEND;TZID=UTC:20240521T170000
DTSTAMP:20260419T215952
CREATED:20220708T174714Z
LAST-MODIFIED:20220708T174714Z
UID:850-1716303600-1716310800@www.epiphanylifechange.org
SUMMARY:Pack Unit  TUMI Classes
DESCRIPTION:
URL:https://www.epiphanylifechange.org/event/pack-unit-tumi-classes-2024-05-21/
END:VEVENT
BEGIN:VEVENT
DTSTART;TZID=UTC:20240519T090000
DTEND;TZID=UTC:20240519T110000
DTSTAMP:20260419T215952
CREATED:20210803T161651Z
LAST-MODIFIED:20210803T161651Z
UID:705-1716109200-1716116400@www.epiphanylifechange.org
SUMMARY:C T Terrell Unit
DESCRIPTION:
URL:https://www.epiphanylifechange.org/event/c-t-terrell-unit-2024-05-19/
END:VEVENT
BEGIN:VEVENT
DTSTART;TZID=UTC:20240514T150000
DTEND;TZID=UTC:20240514T170000
DTSTAMP:20260419T215952
CREATED:20220708T174714Z
LAST-MODIFIED:20220708T174714Z
UID:849-1715698800-1715706000@www.epiphanylifechange.org
SUMMARY:Pack Unit  TUMI Classes
DESCRIPTION:
URL:https://www.epiphanylifechange.org/event/pack-unit-tumi-classes-2024-05-14/
END:VEVENT
BEGIN:VEVENT
DTSTART;TZID=UTC:20240512T093000
DTEND;TZID=UTC:20240512T113000
DTSTAMP:20260419T215952
CREATED:20210803T161034Z
LAST-MODIFIED:20210803T161034Z
UID:703-1715506200-1715513400@www.epiphanylifechange.org
SUMMARY:C T Terrell Unit in the Main Bldg
DESCRIPTION:
URL:https://www.epiphanylifechange.org/event/c-t-terrell-unit-in-the-main-bldg-2024-05-12/
END:VEVENT
BEGIN:VEVENT
DTSTART;TZID=UTC:20240512T090000
DTEND;TZID=UTC:20240512T113000
DTSTAMP:20260419T215952
CREATED:20210803T161533Z
LAST-MODIFIED:20210803T161533Z
UID:704-1715504400-1715513400@www.epiphanylifechange.org
SUMMARY:C T Terrell Unit in the Boot Camp
DESCRIPTION:
URL:https://www.epiphanylifechange.org/event/c-t-terrell-unit-in-the-boot-camp-2024-05-12/
END:VEVENT
BEGIN:VEVENT
DTSTART;TZID=UTC:20240507T150000
DTEND;TZID=UTC:20240507T170000
DTSTAMP:20260419T215952
CREATED:20220708T174714Z
LAST-MODIFIED:20220708T174714Z
UID:848-1715094000-1715101200@www.epiphanylifechange.org
SUMMARY:Pack Unit  TUMI Classes
DESCRIPTION:
URL:https://www.epiphanylifechange.org/event/pack-unit-tumi-classes-2024-05-07/
END:VEVENT
BEGIN:VEVENT
DTSTART;TZID=UTC:20240505T083000
DTEND;TZID=UTC:20240505T110000
DTSTAMP:20260419T215952
CREATED:20210803T160656Z
LAST-MODIFIED:20210803T160656Z
UID:702-1714897800-1714906800@www.epiphanylifechange.org
SUMMARY:Stringfellow Unit Worship Service
DESCRIPTION:
URL:https://www.epiphanylifechange.org/event/stringfellow-unit-worship-service-2024-05-05/
LOCATION:Stringfellow Unit
END:VEVENT
BEGIN:VEVENT
DTSTART;TZID=UTC:20240504T130000
DTEND;TZID=UTC:20240504T150000
DTSTAMP:20260419T215952
CREATED:20220615T193338Z
LAST-MODIFIED:20220615T193338Z
UID:742-1714827600-1714834800@www.epiphanylifechange.org
SUMMARY:Plane State Jail Reentry Class
DESCRIPTION:
URL:https://www.epiphanylifechange.org/event/__trashed-2024-05-04/
LOCATION:Plane State Women’s Jail\, 904 FM686\, Dayton\, TX\, 77535\, United States
ORGANIZER;CN="Felicia a Anderson":MAILTO:felicia.anderson@epiphanylifechange.com
END:VEVENT
BEGIN:VEVENT
DTSTART;TZID=UTC:20240430T150000
DTEND;TZID=UTC:20240430T170000
DTSTAMP:20260419T215952
CREATED:20220708T174714Z
LAST-MODIFIED:20220708T174714Z
UID:847-1714489200-1714496400@www.epiphanylifechange.org
SUMMARY:Pack Unit  TUMI Classes
DESCRIPTION:
URL:https://www.epiphanylifechange.org/event/pack-unit-tumi-classes-2024-04-30/
END:VEVENT
BEGIN:VEVENT
DTSTART;TZID=UTC:20240423T150000
DTEND;TZID=UTC:20240423T170000
DTSTAMP:20260419T215952
CREATED:20220708T174714Z
LAST-MODIFIED:20220708T174714Z
UID:846-1713884400-1713891600@www.epiphanylifechange.org
SUMMARY:Pack Unit  TUMI Classes
DESCRIPTION:
URL:https://www.epiphanylifechange.org/event/pack-unit-tumi-classes-2024-04-23/
END:VEVENT
BEGIN:VEVENT
DTSTART;TZID=UTC:20240421T090000
DTEND;TZID=UTC:20240421T110000
DTSTAMP:20260419T215952
CREATED:20210803T161651Z
LAST-MODIFIED:20210803T161651Z
UID:701-1713690000-1713697200@www.epiphanylifechange.org
SUMMARY:C T Terrell Unit
DESCRIPTION:
URL:https://www.epiphanylifechange.org/event/c-t-terrell-unit-2024-04-21/
END:VEVENT
BEGIN:VEVENT
DTSTART;TZID=UTC:20240416T150000
DTEND;TZID=UTC:20240416T170000
DTSTAMP:20260419T215952
CREATED:20220708T174714Z
LAST-MODIFIED:20220708T174714Z
UID:845-1713279600-1713286800@www.epiphanylifechange.org
SUMMARY:Pack Unit  TUMI Classes
DESCRIPTION:
URL:https://www.epiphanylifechange.org/event/pack-unit-tumi-classes-2024-04-16/
END:VEVENT
BEGIN:VEVENT
DTSTART;TZID=UTC:20240414T093000
DTEND;TZID=UTC:20240414T113000
DTSTAMP:20260419T215952
CREATED:20210803T161034Z
LAST-MODIFIED:20210803T161034Z
UID:700-1713087000-1713094200@www.epiphanylifechange.org
SUMMARY:C T Terrell Unit in the Main Bldg
DESCRIPTION:
URL:https://www.epiphanylifechange.org/event/c-t-terrell-unit-in-the-main-bldg-2024-04-14/
END:VEVENT
BEGIN:VEVENT
DTSTART;TZID=UTC:20240414T090000
DTEND;TZID=UTC:20240414T113000
DTSTAMP:20260419T215952
CREATED:20210803T161533Z
LAST-MODIFIED:20210803T161533Z
UID:699-1713085200-1713094200@www.epiphanylifechange.org
SUMMARY:C T Terrell Unit in the Boot Camp
DESCRIPTION:
URL:https://www.epiphanylifechange.org/event/c-t-terrell-unit-in-the-boot-camp-2024-04-14/
END:VEVENT
BEGIN:VEVENT
DTSTART;TZID=UTC:20240409T150000
DTEND;TZID=UTC:20240409T170000
DTSTAMP:20260419T215952
CREATED:20220708T174714Z
LAST-MODIFIED:20220708T174714Z
UID:844-1712674800-1712682000@www.epiphanylifechange.org
SUMMARY:Pack Unit  TUMI Classes
DESCRIPTION:
URL:https://www.epiphanylifechange.org/event/pack-unit-tumi-classes-2024-04-09/
END:VEVENT
BEGIN:VEVENT
DTSTART;TZID=UTC:20240407T083000
DTEND;TZID=UTC:20240407T110000
DTSTAMP:20260419T215952
CREATED:20210803T160656Z
LAST-MODIFIED:20210803T160656Z
UID:676-1712478600-1712487600@www.epiphanylifechange.org
SUMMARY:Stringfellow Unit Worship Service
DESCRIPTION:
URL:https://www.epiphanylifechange.org/event/stringfellow-unit-worship-service-2024-04-07/
LOCATION:Stringfellow Unit
END:VEVENT
BEGIN:VEVENT
DTSTART;TZID=UTC:20240406T130000
DTEND;TZID=UTC:20240406T150000
DTSTAMP:20260419T215952
CREATED:20220615T193338Z
LAST-MODIFIED:20220615T193338Z
UID:741-1712408400-1712415600@www.epiphanylifechange.org
SUMMARY:Plane State Jail Reentry Class
DESCRIPTION:
URL:https://www.epiphanylifechange.org/event/__trashed-2024-04-06/
LOCATION:Plane State Women’s Jail\, 904 FM686\, Dayton\, TX\, 77535\, United States
ORGANIZER;CN="Felicia a Anderson":MAILTO:felicia.anderson@epiphanylifechange.com
END:VEVENT
BEGIN:VEVENT
DTSTART;TZID=UTC:20240402T150000
DTEND;TZID=UTC:20240402T170000
DTSTAMP:20260419T215952
CREATED:20220708T174714Z
LAST-MODIFIED:20220708T174714Z
UID:843-1712070000-1712077200@www.epiphanylifechange.org
SUMMARY:Pack Unit  TUMI Classes
DESCRIPTION:
URL:https://www.epiphanylifechange.org/event/pack-unit-tumi-classes-2024-04-02/
END:VEVENT
BEGIN:VEVENT
DTSTART;TZID=UTC:20240326T150000
DTEND;TZID=UTC:20240326T170000
DTSTAMP:20260419T215952
CREATED:20220708T174714Z
LAST-MODIFIED:20220708T174714Z
UID:842-1711465200-1711472400@www.epiphanylifechange.org
SUMMARY:Pack Unit  TUMI Classes
DESCRIPTION:
URL:https://www.epiphanylifechange.org/event/pack-unit-tumi-classes-2024-03-26/
END:VEVENT
BEGIN:VEVENT
DTSTART;TZID=UTC:20240319T150000
DTEND;TZID=UTC:20240319T170000
DTSTAMP:20260419T215952
CREATED:20220708T174714Z
LAST-MODIFIED:20220708T174714Z
UID:841-1710860400-1710867600@www.epiphanylifechange.org
SUMMARY:Pack Unit  TUMI Classes
DESCRIPTION:
URL:https://www.epiphanylifechange.org/event/pack-unit-tumi-classes-2024-03-19/
END:VEVENT
BEGIN:VEVENT
DTSTART;TZID=UTC:20240317T090000
DTEND;TZID=UTC:20240317T110000
DTSTAMP:20260419T215952
CREATED:20210803T161651Z
LAST-MODIFIED:20220324T135144Z
UID:668-1710666000-1710673200@www.epiphanylifechange.org
SUMMARY:C T Terrell Unit
DESCRIPTION:
URL:https://www.epiphanylifechange.org/event/c-t-terrell-unit-2024-03-17/
END:VEVENT
BEGIN:VEVENT
DTSTART;TZID=UTC:20240312T150000
DTEND;TZID=UTC:20240312T170000
DTSTAMP:20260419T215952
CREATED:20220708T174714Z
LAST-MODIFIED:20220708T174714Z
UID:840-1710255600-1710262800@www.epiphanylifechange.org
SUMMARY:Pack Unit  TUMI Classes
DESCRIPTION:
URL:https://www.epiphanylifechange.org/event/pack-unit-tumi-classes-2024-03-12/
END:VEVENT
BEGIN:VEVENT
DTSTART;TZID=UTC:20240310T093000
DTEND;TZID=UTC:20240310T113000
DTSTAMP:20260419T215952
CREATED:20210803T161034Z
LAST-MODIFIED:20210803T161034Z
UID:666-1710063000-1710070200@www.epiphanylifechange.org
SUMMARY:C T Terrell Unit in the Main Bldg
DESCRIPTION:
URL:https://www.epiphanylifechange.org/event/c-t-terrell-unit-in-the-main-bldg-2024-03-10/
END:VEVENT
BEGIN:VEVENT
DTSTART;TZID=UTC:20240310T090000
DTEND;TZID=UTC:20240310T113000
DTSTAMP:20260419T215952
CREATED:20210803T161533Z
LAST-MODIFIED:20210803T161533Z
UID:667-1710061200-1710070200@www.epiphanylifechange.org
SUMMARY:C T Terrell Unit in the Boot Camp
DESCRIPTION:
URL:https://www.epiphanylifechange.org/event/c-t-terrell-unit-in-the-boot-camp-2024-03-10/
END:VEVENT
BEGIN:VEVENT
DTSTART;TZID=UTC:20240305T150000
DTEND;TZID=UTC:20240305T170000
DTSTAMP:20260419T215952
CREATED:20220708T174714Z
LAST-MODIFIED:20220708T174714Z
UID:839-1709650800-1709658000@www.epiphanylifechange.org
SUMMARY:Pack Unit  TUMI Classes
DESCRIPTION:
URL:https://www.epiphanylifechange.org/event/pack-unit-tumi-classes-2024-03-05/
END:VEVENT
BEGIN:VEVENT
DTSTART;TZID=UTC:20240303T083000
DTEND;TZID=UTC:20240303T110000
DTSTAMP:20260419T215952
CREATED:20210803T160656Z
LAST-MODIFIED:20210803T160656Z
UID:665-1709454600-1709463600@www.epiphanylifechange.org
SUMMARY:Stringfellow Unit Worship Service
DESCRIPTION:
URL:https://www.epiphanylifechange.org/event/stringfellow-unit-worship-service-2024-03-03/
LOCATION:Stringfellow Unit
END:VEVENT
END:VCALENDAR