BEGIN:VCALENDAR
VERSION:2.0
PRODID:-//Epiphany Life Change - ECPv6.15.1.1//NONSGML v1.0//EN
CALSCALE:GREGORIAN
METHOD:PUBLISH
X-WR-CALNAME:Epiphany Life Change
X-ORIGINAL-URL:https://www.epiphanylifechange.org
X-WR-CALDESC:Events for Epiphany Life Change
REFRESH-INTERVAL;VALUE=DURATION:PT1H
X-Robots-Tag:noindex
X-PUBLISHED-TTL:PT1H
BEGIN:VTIMEZONE
TZID:UTC
BEGIN:STANDARD
TZOFFSETFROM:+0000
TZOFFSETTO:+0000
TZNAME:UTC
DTSTART:20250101T000000
END:STANDARD
END:VTIMEZONE
BEGIN:VEVENT
DTSTART;TZID=UTC:20250401T150000
DTEND;TZID=UTC:20250401T170000
DTSTAMP:20260424T084145
CREATED:20220708T174714Z
LAST-MODIFIED:20220708T174714Z
UID:1174-1743519600-1743526800@www.epiphanylifechange.org
SUMMARY:Pack Unit  TUMI Classes
DESCRIPTION:
URL:https://www.epiphanylifechange.org/event/pack-unit-tumi-classes-2025-04-01/
END:VEVENT
BEGIN:VEVENT
DTSTART;TZID=UTC:20250405T130000
DTEND;TZID=UTC:20250405T150000
DTSTAMP:20260424T084145
CREATED:20220615T193338Z
LAST-MODIFIED:20220615T193338Z
UID:1564-1743858000-1743865200@www.epiphanylifechange.org
SUMMARY:Plane State Jail Reentry Class
DESCRIPTION:
URL:https://www.epiphanylifechange.org/event/__trashed-2025-04-05/
LOCATION:Plane State Women’s Jail\, 904 FM686\, Dayton\, TX\, 77535\, United States
ORGANIZER;CN="Felicia a Anderson":MAILTO:felicia.anderson@epiphanylifechange.com
END:VEVENT
BEGIN:VEVENT
DTSTART;TZID=UTC:20250406T083000
DTEND;TZID=UTC:20250406T110000
DTSTAMP:20260424T084145
CREATED:20210803T160656Z
LAST-MODIFIED:20210803T160656Z
UID:1489-1743928200-1743937200@www.epiphanylifechange.org
SUMMARY:Stringfellow Unit Worship Service
DESCRIPTION:
URL:https://www.epiphanylifechange.org/event/stringfellow-unit-worship-service-2025-04-06/
LOCATION:Stringfellow Unit
END:VEVENT
BEGIN:VEVENT
DTSTART;TZID=UTC:20250408T150000
DTEND;TZID=UTC:20250408T170000
DTSTAMP:20260424T084145
CREATED:20220708T174714Z
LAST-MODIFIED:20220708T174714Z
UID:1581-1744124400-1744131600@www.epiphanylifechange.org
SUMMARY:Pack Unit  TUMI Classes
DESCRIPTION:
URL:https://www.epiphanylifechange.org/event/pack-unit-tumi-classes-2025-04-08/
END:VEVENT
BEGIN:VEVENT
DTSTART;TZID=UTC:20250413T090000
DTEND;TZID=UTC:20250413T113000
DTSTAMP:20260424T084145
CREATED:20210803T161533Z
LAST-MODIFIED:20210803T161533Z
UID:1522-1744534800-1744543800@www.epiphanylifechange.org
SUMMARY:C T Terrell Unit in the Boot Camp
DESCRIPTION:
URL:https://www.epiphanylifechange.org/event/c-t-terrell-unit-in-the-boot-camp-2025-04-13/
END:VEVENT
BEGIN:VEVENT
DTSTART;TZID=UTC:20250413T093000
DTEND;TZID=UTC:20250413T113000
DTSTAMP:20260424T084145
CREATED:20210803T161034Z
LAST-MODIFIED:20210803T161034Z
UID:1506-1744536600-1744543800@www.epiphanylifechange.org
SUMMARY:C T Terrell Unit in the Main Bldg
DESCRIPTION:
URL:https://www.epiphanylifechange.org/event/c-t-terrell-unit-in-the-main-bldg-2025-04-13/
END:VEVENT
BEGIN:VEVENT
DTSTART;TZID=UTC:20250415T150000
DTEND;TZID=UTC:20250415T170000
DTSTAMP:20260424T084145
CREATED:20220708T174714Z
LAST-MODIFIED:20220708T174714Z
UID:1582-1744729200-1744736400@www.epiphanylifechange.org
SUMMARY:Pack Unit  TUMI Classes
DESCRIPTION:
URL:https://www.epiphanylifechange.org/event/pack-unit-tumi-classes-2025-04-15/
END:VEVENT
BEGIN:VEVENT
DTSTART;TZID=UTC:20250420T090000
DTEND;TZID=UTC:20250420T110000
DTSTAMP:20260424T084145
CREATED:20210803T161651Z
LAST-MODIFIED:20210803T161651Z
UID:1538-1745139600-1745146800@www.epiphanylifechange.org
SUMMARY:C T Terrell Unit
DESCRIPTION:
URL:https://www.epiphanylifechange.org/event/c-t-terrell-unit-2025-04-20/
END:VEVENT
BEGIN:VEVENT
DTSTART;TZID=UTC:20250422T150000
DTEND;TZID=UTC:20250422T170000
DTSTAMP:20260424T084145
CREATED:20220708T174714Z
LAST-MODIFIED:20220708T174714Z
UID:1583-1745334000-1745341200@www.epiphanylifechange.org
SUMMARY:Pack Unit  TUMI Classes
DESCRIPTION:
URL:https://www.epiphanylifechange.org/event/pack-unit-tumi-classes-2025-04-22/
END:VEVENT
BEGIN:VEVENT
DTSTART;TZID=UTC:20250429T150000
DTEND;TZID=UTC:20250429T170000
DTSTAMP:20260424T084145
CREATED:20220708T174714Z
LAST-MODIFIED:20220708T174714Z
UID:1584-1745938800-1745946000@www.epiphanylifechange.org
SUMMARY:Pack Unit  TUMI Classes
DESCRIPTION:
URL:https://www.epiphanylifechange.org/event/pack-unit-tumi-classes-2025-04-29/
END:VEVENT
END:VCALENDAR