BEGIN:VCALENDAR
VERSION:2.0
PRODID:-//Epiphany Life Change - ECPv6.15.1.1//NONSGML v1.0//EN
CALSCALE:GREGORIAN
METHOD:PUBLISH
X-WR-CALNAME:Epiphany Life Change
X-ORIGINAL-URL:https://www.epiphanylifechange.org
X-WR-CALDESC:Events for Epiphany Life Change
REFRESH-INTERVAL;VALUE=DURATION:PT1H
X-Robots-Tag:noindex
X-PUBLISHED-TTL:PT1H
BEGIN:VTIMEZONE
TZID:UTC
BEGIN:STANDARD
TZOFFSETFROM:+0000
TZOFFSETTO:+0000
TZNAME:UTC
DTSTART:20260101T000000
END:STANDARD
END:VTIMEZONE
BEGIN:VEVENT
DTSTART;TZID=UTC:20260201T083000
DTEND;TZID=UTC:20260201T110000
DTSTAMP:20260424T183557
CREATED:20210803T160656Z
LAST-MODIFIED:20210803T160656Z
UID:1499-1769934600-1769943600@www.epiphanylifechange.org
SUMMARY:Stringfellow Unit Worship Service
DESCRIPTION:
URL:https://www.epiphanylifechange.org/event/stringfellow-unit-worship-service-2026-02-01/
LOCATION:Stringfellow Unit
END:VEVENT
BEGIN:VEVENT
DTSTART;TZID=UTC:20260203T150000
DTEND;TZID=UTC:20260203T170000
DTSTAMP:20260424T183557
CREATED:20220708T174714Z
LAST-MODIFIED:20220708T174714Z
UID:1624-1770130800-1770138000@www.epiphanylifechange.org
SUMMARY:Pack Unit  TUMI Classes
DESCRIPTION:
URL:https://www.epiphanylifechange.org/event/pack-unit-tumi-classes-2026-02-03/
END:VEVENT
BEGIN:VEVENT
DTSTART;TZID=UTC:20260207T130000
DTEND;TZID=UTC:20260207T150000
DTSTAMP:20260424T183557
CREATED:20220615T193338Z
LAST-MODIFIED:20220615T193338Z
UID:1574-1770469200-1770476400@www.epiphanylifechange.org
SUMMARY:Plane State Jail Reentry Class
DESCRIPTION:
URL:https://www.epiphanylifechange.org/event/__trashed-2026-02-07/
LOCATION:Plane State Women’s Jail\, 904 FM686\, Dayton\, TX\, 77535\, United States
ORGANIZER;CN="Felicia a Anderson":MAILTO:felicia.anderson@epiphanylifechange.com
END:VEVENT
BEGIN:VEVENT
DTSTART;TZID=UTC:20260208T090000
DTEND;TZID=UTC:20260208T113000
DTSTAMP:20260424T183557
CREATED:20210803T161533Z
LAST-MODIFIED:20210803T161533Z
UID:1532-1770541200-1770550200@www.epiphanylifechange.org
SUMMARY:C T Terrell Unit in the Boot Camp
DESCRIPTION:
URL:https://www.epiphanylifechange.org/event/c-t-terrell-unit-in-the-boot-camp-2026-02-08/
END:VEVENT
BEGIN:VEVENT
DTSTART;TZID=UTC:20260208T093000
DTEND;TZID=UTC:20260208T113000
DTSTAMP:20260424T183557
CREATED:20210803T161034Z
LAST-MODIFIED:20210803T161034Z
UID:1516-1770543000-1770550200@www.epiphanylifechange.org
SUMMARY:C T Terrell Unit in the Main Bldg
DESCRIPTION:
URL:https://www.epiphanylifechange.org/event/c-t-terrell-unit-in-the-main-bldg-2026-02-08/
END:VEVENT
BEGIN:VEVENT
DTSTART;TZID=UTC:20260210T150000
DTEND;TZID=UTC:20260210T170000
DTSTAMP:20260424T183557
CREATED:20220708T174714Z
LAST-MODIFIED:20220708T174714Z
UID:1625-1770735600-1770742800@www.epiphanylifechange.org
SUMMARY:Pack Unit  TUMI Classes
DESCRIPTION:
URL:https://www.epiphanylifechange.org/event/pack-unit-tumi-classes-2026-02-10/
END:VEVENT
BEGIN:VEVENT
DTSTART;TZID=UTC:20260215T090000
DTEND;TZID=UTC:20260215T110000
DTSTAMP:20260424T183557
CREATED:20210803T161651Z
LAST-MODIFIED:20210803T161651Z
UID:1548-1771146000-1771153200@www.epiphanylifechange.org
SUMMARY:C T Terrell Unit
DESCRIPTION:
URL:https://www.epiphanylifechange.org/event/c-t-terrell-unit-2026-02-15/
END:VEVENT
BEGIN:VEVENT
DTSTART;TZID=UTC:20260217T150000
DTEND;TZID=UTC:20260217T170000
DTSTAMP:20260424T183557
CREATED:20220708T174714Z
LAST-MODIFIED:20220708T174714Z
UID:1626-1771340400-1771347600@www.epiphanylifechange.org
SUMMARY:Pack Unit  TUMI Classes
DESCRIPTION:
URL:https://www.epiphanylifechange.org/event/pack-unit-tumi-classes-2026-02-17/
END:VEVENT
BEGIN:VEVENT
DTSTART;TZID=UTC:20260224T150000
DTEND;TZID=UTC:20260224T170000
DTSTAMP:20260424T183557
CREATED:20220708T174714Z
LAST-MODIFIED:20220708T174714Z
UID:1627-1771945200-1771952400@www.epiphanylifechange.org
SUMMARY:Pack Unit  TUMI Classes
DESCRIPTION:
URL:https://www.epiphanylifechange.org/event/pack-unit-tumi-classes-2026-02-24/
END:VEVENT
END:VCALENDAR