BEGIN:VCALENDAR
VERSION:2.0
PRODID:-//Epiphany Life Change - ECPv6.15.1.1//NONSGML v1.0//EN
CALSCALE:GREGORIAN
METHOD:PUBLISH
X-WR-CALNAME:Epiphany Life Change
X-ORIGINAL-URL:https://www.epiphanylifechange.org
X-WR-CALDESC:Events for Epiphany Life Change
REFRESH-INTERVAL;VALUE=DURATION:PT1H
X-Robots-Tag:noindex
X-PUBLISHED-TTL:PT1H
BEGIN:VTIMEZONE
TZID:UTC
BEGIN:STANDARD
TZOFFSETFROM:+0000
TZOFFSETTO:+0000
TZNAME:UTC
DTSTART:20260101T000000
END:STANDARD
END:VTIMEZONE
BEGIN:VEVENT
DTSTART;TZID=UTC:20260301T083000
DTEND;TZID=UTC:20260301T110000
DTSTAMP:20260424T165300
CREATED:20210803T160656Z
LAST-MODIFIED:20210803T160656Z
UID:1500-1772353800-1772362800@www.epiphanylifechange.org
SUMMARY:Stringfellow Unit Worship Service
DESCRIPTION:
URL:https://www.epiphanylifechange.org/event/stringfellow-unit-worship-service-2026-03-01/
LOCATION:Stringfellow Unit
END:VEVENT
BEGIN:VEVENT
DTSTART;TZID=UTC:20260303T150000
DTEND;TZID=UTC:20260303T170000
DTSTAMP:20260424T165300
CREATED:20220708T174714Z
LAST-MODIFIED:20220708T174714Z
UID:1628-1772550000-1772557200@www.epiphanylifechange.org
SUMMARY:Pack Unit  TUMI Classes
DESCRIPTION:
URL:https://www.epiphanylifechange.org/event/pack-unit-tumi-classes-2026-03-03/
END:VEVENT
BEGIN:VEVENT
DTSTART;TZID=UTC:20260307T130000
DTEND;TZID=UTC:20260307T150000
DTSTAMP:20260424T165300
CREATED:20220615T193338Z
LAST-MODIFIED:20220615T193338Z
UID:1575-1772888400-1772895600@www.epiphanylifechange.org
SUMMARY:Plane State Jail Reentry Class
DESCRIPTION:
URL:https://www.epiphanylifechange.org/event/__trashed-2026-03-07/
LOCATION:Plane State Women’s Jail\, 904 FM686\, Dayton\, TX\, 77535\, United States
ORGANIZER;CN="Felicia a Anderson":MAILTO:felicia.anderson@epiphanylifechange.com
END:VEVENT
BEGIN:VEVENT
DTSTART;TZID=UTC:20260308T090000
DTEND;TZID=UTC:20260308T113000
DTSTAMP:20260424T165300
CREATED:20210803T161533Z
LAST-MODIFIED:20210803T161533Z
UID:1533-1772960400-1772969400@www.epiphanylifechange.org
SUMMARY:C T Terrell Unit in the Boot Camp
DESCRIPTION:
URL:https://www.epiphanylifechange.org/event/c-t-terrell-unit-in-the-boot-camp-2026-03-08/
END:VEVENT
BEGIN:VEVENT
DTSTART;TZID=UTC:20260308T093000
DTEND;TZID=UTC:20260308T113000
DTSTAMP:20260424T165300
CREATED:20210803T161034Z
LAST-MODIFIED:20210803T161034Z
UID:1517-1772962200-1772969400@www.epiphanylifechange.org
SUMMARY:C T Terrell Unit in the Main Bldg
DESCRIPTION:
URL:https://www.epiphanylifechange.org/event/c-t-terrell-unit-in-the-main-bldg-2026-03-08/
END:VEVENT
BEGIN:VEVENT
DTSTART;TZID=UTC:20260310T150000
DTEND;TZID=UTC:20260310T170000
DTSTAMP:20260424T165300
CREATED:20220708T174714Z
LAST-MODIFIED:20220708T174714Z
UID:1629-1773154800-1773162000@www.epiphanylifechange.org
SUMMARY:Pack Unit  TUMI Classes
DESCRIPTION:
URL:https://www.epiphanylifechange.org/event/pack-unit-tumi-classes-2026-03-10/
END:VEVENT
BEGIN:VEVENT
DTSTART;TZID=UTC:20260315T090000
DTEND;TZID=UTC:20260315T110000
DTSTAMP:20260424T165300
CREATED:20210803T161651Z
LAST-MODIFIED:20210803T161651Z
UID:1549-1773565200-1773572400@www.epiphanylifechange.org
SUMMARY:C T Terrell Unit
DESCRIPTION:
URL:https://www.epiphanylifechange.org/event/c-t-terrell-unit-2026-03-15/
END:VEVENT
BEGIN:VEVENT
DTSTART;TZID=UTC:20260317T150000
DTEND;TZID=UTC:20260317T170000
DTSTAMP:20260424T165300
CREATED:20220708T174714Z
LAST-MODIFIED:20220708T174714Z
UID:1630-1773759600-1773766800@www.epiphanylifechange.org
SUMMARY:Pack Unit  TUMI Classes
DESCRIPTION:
URL:https://www.epiphanylifechange.org/event/pack-unit-tumi-classes-2026-03-17/
END:VEVENT
BEGIN:VEVENT
DTSTART;TZID=UTC:20260324T150000
DTEND;TZID=UTC:20260324T170000
DTSTAMP:20260424T165300
CREATED:20220708T174714Z
LAST-MODIFIED:20220708T174714Z
UID:1631-1774364400-1774371600@www.epiphanylifechange.org
SUMMARY:Pack Unit  TUMI Classes
DESCRIPTION:
URL:https://www.epiphanylifechange.org/event/pack-unit-tumi-classes-2026-03-24/
END:VEVENT
BEGIN:VEVENT
DTSTART;TZID=UTC:20260331T150000
DTEND;TZID=UTC:20260331T170000
DTSTAMP:20260424T165300
CREATED:20220708T174714Z
LAST-MODIFIED:20220708T174714Z
UID:1632-1774969200-1774976400@www.epiphanylifechange.org
SUMMARY:Pack Unit  TUMI Classes
DESCRIPTION:
URL:https://www.epiphanylifechange.org/event/pack-unit-tumi-classes-2026-03-31/
END:VEVENT
END:VCALENDAR