BEGIN:VCALENDAR
VERSION:2.0
PRODID:-//Epiphany Life Change - ECPv6.15.1.1//NONSGML v1.0//EN
CALSCALE:GREGORIAN
METHOD:PUBLISH
X-WR-CALNAME:Epiphany Life Change
X-ORIGINAL-URL:https://www.epiphanylifechange.org
X-WR-CALDESC:Events for Epiphany Life Change
REFRESH-INTERVAL;VALUE=DURATION:PT1H
X-Robots-Tag:noindex
X-PUBLISHED-TTL:PT1H
BEGIN:VTIMEZONE
TZID:UTC
BEGIN:STANDARD
TZOFFSETFROM:+0000
TZOFFSETTO:+0000
TZNAME:UTC
DTSTART:20260101T000000
END:STANDARD
END:VTIMEZONE
BEGIN:VEVENT
DTSTART;TZID=UTC:20260901T150000
DTEND;TZID=UTC:20260901T170000
DTSTAMP:20260425T011346
CREATED:20220708T174714Z
LAST-MODIFIED:20220708T174714Z
UID:1704-1788274800-1788282000@www.epiphanylifechange.org
SUMMARY:Pack Unit  TUMI Classes
DESCRIPTION:
URL:https://www.epiphanylifechange.org/event/pack-unit-tumi-classes-2026-09-01/
END:VEVENT
BEGIN:VEVENT
DTSTART;TZID=UTC:20260906T083000
DTEND;TZID=UTC:20260906T110000
DTSTAMP:20260425T011346
CREATED:20210803T160656Z
LAST-MODIFIED:20210803T160656Z
UID:1705-1788683400-1788692400@www.epiphanylifechange.org
SUMMARY:Stringfellow Unit Worship Service
DESCRIPTION:
URL:https://www.epiphanylifechange.org/event/stringfellow-unit-worship-service-2026-09-06/
LOCATION:Stringfellow Unit
END:VEVENT
BEGIN:VEVENT
DTSTART;TZID=UTC:20260908T150000
DTEND;TZID=UTC:20260908T170000
DTSTAMP:20260425T011346
CREATED:20220708T174714Z
LAST-MODIFIED:20220708T174714Z
UID:1731-1788879600-1788886800@www.epiphanylifechange.org
SUMMARY:Pack Unit  TUMI Classes
DESCRIPTION:
URL:https://www.epiphanylifechange.org/event/pack-unit-tumi-classes-2026-09-08/
END:VEVENT
BEGIN:VEVENT
DTSTART;TZID=UTC:20260913T090000
DTEND;TZID=UTC:20260913T113000
DTSTAMP:20260425T011346
CREATED:20210803T161533Z
LAST-MODIFIED:20210803T161533Z
UID:1733-1789290000-1789299000@www.epiphanylifechange.org
SUMMARY:C T Terrell Unit in the Boot Camp
DESCRIPTION:
URL:https://www.epiphanylifechange.org/event/c-t-terrell-unit-in-the-boot-camp-2026-09-13/
END:VEVENT
BEGIN:VEVENT
DTSTART;TZID=UTC:20260913T093000
DTEND;TZID=UTC:20260913T113000
DTSTAMP:20260425T011346
CREATED:20210803T161034Z
LAST-MODIFIED:20210803T161034Z
UID:1732-1789291800-1789299000@www.epiphanylifechange.org
SUMMARY:C T Terrell Unit in the Main Bldg
DESCRIPTION:
URL:https://www.epiphanylifechange.org/event/c-t-terrell-unit-in-the-main-bldg-2026-09-13/
END:VEVENT
BEGIN:VEVENT
DTSTART;TZID=UTC:20260915T150000
DTEND;TZID=UTC:20260915T170000
DTSTAMP:20260425T011346
CREATED:20220708T174714Z
LAST-MODIFIED:20220708T174714Z
UID:1734-1789484400-1789491600@www.epiphanylifechange.org
SUMMARY:Pack Unit  TUMI Classes
DESCRIPTION:
URL:https://www.epiphanylifechange.org/event/pack-unit-tumi-classes-2026-09-15/
END:VEVENT
BEGIN:VEVENT
DTSTART;TZID=UTC:20260920T090000
DTEND;TZID=UTC:20260920T110000
DTSTAMP:20260425T011346
CREATED:20210803T161651Z
LAST-MODIFIED:20210803T161651Z
UID:1735-1789894800-1789902000@www.epiphanylifechange.org
SUMMARY:C T Terrell Unit
DESCRIPTION:
URL:https://www.epiphanylifechange.org/event/c-t-terrell-unit-2026-09-20/
END:VEVENT
BEGIN:VEVENT
DTSTART;TZID=UTC:20260922T150000
DTEND;TZID=UTC:20260922T170000
DTSTAMP:20260425T011346
CREATED:20220708T174714Z
LAST-MODIFIED:20220708T174714Z
UID:1736-1790089200-1790096400@www.epiphanylifechange.org
SUMMARY:Pack Unit  TUMI Classes
DESCRIPTION:
URL:https://www.epiphanylifechange.org/event/pack-unit-tumi-classes-2026-09-22/
END:VEVENT
BEGIN:VEVENT
DTSTART;TZID=UTC:20260929T150000
DTEND;TZID=UTC:20260929T170000
DTSTAMP:20260425T011346
CREATED:20220708T174714Z
LAST-MODIFIED:20220708T174714Z
UID:1741-1790694000-1790701200@www.epiphanylifechange.org
SUMMARY:Pack Unit  TUMI Classes
DESCRIPTION:
URL:https://www.epiphanylifechange.org/event/pack-unit-tumi-classes-2026-09-29/
END:VEVENT
END:VCALENDAR